BEGIN:VCALENDAR
VERSION:2.0
PRODID:-//Transition Sitka - ECPv6.15.20//NONSGML v1.0//EN
CALSCALE:GREGORIAN
METHOD:PUBLISH
X-ORIGINAL-URL:https://transitionsitka.org
X-WR-CALDESC:Events for Transition Sitka
REFRESH-INTERVAL;VALUE=DURATION:PT1H
X-Robots-Tag:noindex
X-PUBLISHED-TTL:PT1H
BEGIN:VTIMEZONE
TZID:UTC
BEGIN:STANDARD
TZOFFSETFROM:+0000
TZOFFSETTO:+0000
TZNAME:UTC
DTSTART:20210101T000000
END:STANDARD
END:VTIMEZONE
BEGIN:VTIMEZONE
TZID:America/Sitka
BEGIN:DAYLIGHT
TZOFFSETFROM:-0900
TZOFFSETTO:-0800
TZNAME:AKDT
DTSTART:20220313T110000
END:DAYLIGHT
BEGIN:STANDARD
TZOFFSETFROM:-0800
TZOFFSETTO:-0900
TZNAME:AKST
DTSTART:20221106T100000
END:STANDARD
BEGIN:DAYLIGHT
TZOFFSETFROM:-0900
TZOFFSETTO:-0800
TZNAME:AKDT
DTSTART:20230312T110000
END:DAYLIGHT
BEGIN:STANDARD
TZOFFSETFROM:-0800
TZOFFSETTO:-0900
TZNAME:AKST
DTSTART:20231105T100000
END:STANDARD
BEGIN:DAYLIGHT
TZOFFSETFROM:-0900
TZOFFSETTO:-0800
TZNAME:AKDT
DTSTART:20240310T110000
END:DAYLIGHT
BEGIN:STANDARD
TZOFFSETFROM:-0800
TZOFFSETTO:-0900
TZNAME:AKST
DTSTART:20241103T100000
END:STANDARD
END:VTIMEZONE
BEGIN:VEVENT
DTSTART;TZID=UTC:20230711T190000
DTEND;TZID=UTC:20230711T203000
DTSTAMP:20260423T182104
CREATED:20230614T042244Z
LAST-MODIFIED:20230614T042246Z
UID:1417-1689102000-1689107400@transitionsitka.org
SUMMARY:Heat Pump Financing Through Tax Credits and the IRA
DESCRIPTION:Mark Houston\, is a certified energy auditor\, who will discuss heat pumps in Alaska and financing opportunities are available now! Join us for an information session about heat pumps and heat pump financing under the Inflation Reduction Act.
URL:https://transitionsitka.org/event/heatpump-finance_presentation/
LOCATION:Room 106 \, UAS Sitka Campus\, 1332 Seward Ave\, Sitka\, Alaska\, 99835
END:VEVENT
BEGIN:VEVENT
DTSTART;TZID=UTC:20230710T180000
DTEND;TZID=UTC:20230710T200000
DTSTAMP:20260423T182104
CREATED:20230614T041350Z
LAST-MODIFIED:20230614T041352Z
UID:1414-1689012000-1689019200@transitionsitka.org
SUMMARY:Sitka Community Gardens Town Hall Meeting
DESCRIPTION:Please join us for an introductory presentation on two exciting new community garden projects proposed by nonprofits Sitka Local Foods Network and Transition Sitka. Discussion of the proposal is being facilitated by the City and Borough of Sitka’s Director of Planning and Community Development\, Amy Ainslie.
URL:https://transitionsitka.org/event/sitka-community-gardens-town-hall-meeting/
LOCATION:Harrigan Centennial Hall\, 330 Harbor Drive\, Sitka\, AK\, 99835\, United States
END:VEVENT
BEGIN:VEVENT
DTSTART;TZID=America/Sitka:20230628T183000
DTEND;TZID=America/Sitka:20230628T200000
DTSTAMP:20260423T182104
CREATED:20230614T040048Z
LAST-MODIFIED:20230625T225529Z
UID:1406-1687977000-1687982400@transitionsitka.org
SUMMARY:Transition Sitka First Annual Membership Meeting and Election of Board Officers (POSTPONED!)
DESCRIPTION:POSTPONED  UNTIL SEPTEMBER – Join Transition Sitka’s dedicated core group on Wed. June 28 from 6:30 pm-8pm\, at the See House\, behind St. Peter’s on Lincoln St.\, for an in-person meeting and introductory presentation. \n\n\n\nThe agenda will include: \n\n\n\n\n6:30-7pm – Business meeting and annual election of our board of directors\n\n\n\n7-8pm – Overview of the organization’s goals and objectives\, history of the “Transition Town” movement (the inspiration for our local group)\, and reports on our ongoing projects: electrification of building heat and land transport; and status update of a community gardens proposal submitted to the Planning Department.\n\n\n\n\n\nEnroll as an active or supporting member\, get acquainted over beverages and desserts!
URL:https://transitionsitka.org/event/transition-sitka-first-annual-membership-meeting-and-election-of-board-officers/
LOCATION:The See House\, St. Peter’s by-the-Sea\, 611 Lincoln St
END:VEVENT
BEGIN:VEVENT
DTSTART;TZID=UTC:20230406T170000
DTEND;TZID=UTC:20230406T180000
DTSTAMP:20260423T182104
CREATED:20230402T214357Z
LAST-MODIFIED:20230402T214358Z
UID:1381-1680800400-1680804000@transitionsitka.org
SUMMARY:2023 Seattle Mega-cruises presentation (zoom)
DESCRIPTION:This presentation is a public meeting co-hosted by Seattle Cruise Control and South Seattle Climate Action Network. All are welcome to hear about the impacts and options for taking action on mega-cruises. Zoom attendees are welcome\, and registration for this event can be found at: https://us02web.zoom.us/meeting/register/tZctf–urzkrHNLuA4JKA9L6_6cCMYz1_YVU
URL:https://transitionsitka.org/event/sscan-scc-mega-cruises-presentation-2023/
LOCATION:Alaska
END:VEVENT
BEGIN:VEVENT
DTSTART;TZID=UTC:20230404T060000
DTEND;TZID=UTC:20230404T083000
DTSTAMP:20260423T182104
CREATED:20230402T220309Z
LAST-MODIFIED:20230402T220310Z
UID:1385-1680588000-1680597000@transitionsitka.org
SUMMARY:Sitka Sustainability Commission Regular Meeting
DESCRIPTION:This months agenda includes: \n\n\n\n\nRecommend the Assembly Fund a Sitka-based Heat Pump Assessor via Alaska Heat Smart\n\n\n\nConsider Drafting a Letter of Support for Sitka Local Foods Network and Transition Sitka’s Community Garden Concept \n\n\n\nRecommend a Sustainability Commissioner for Appointment by the Assembly to Serve on the Tourism Task Force\n\n\n\nDecide the Next Steps for Executing the 2023-2024 Annual Work Plan Goals \n\n\n\nApprove Energy Transition Initiative Partnership Project (ETIPP) Application Resolution Draft
URL:https://transitionsitka.org/event/sustcomm_april2023/
LOCATION:Harrigan Centennial Hall\, 330 Harbor Drive\, Sitka\, AK\, 99835\, United States
END:VEVENT
BEGIN:VEVENT
DTSTART;TZID=UTC:20230318T110000
DTEND;TZID=UTC:20230318T140000
DTSTAMP:20260423T182104
CREATED:20221121T013107Z
LAST-MODIFIED:20221121T013108Z
UID:1349-1679137200-1679148000@transitionsitka.org
SUMMARY:Electrification Expo
DESCRIPTION:Join us to find out more about how you can be a part of Sitka’s future as an efficient user of renewable electricity. Speak to professionals about your options to go electric at home\, at work\, and at play!
URL:https://transitionsitka.org/event/electrification-expo/
LOCATION:Harrigan Centennial Hall\, 330 Harbor Drive\, Sitka\, AK\, 99835\, United States
END:VEVENT
BEGIN:VEVENT
DTSTART;TZID=UTC:20221214T190000
DTEND;TZID=UTC:20221214T201500
DTSTAMP:20260423T182104
CREATED:20221121T012259Z
LAST-MODIFIED:20221121T025152Z
UID:1347-1671044400-1671048900@transitionsitka.org
SUMMARY:Presentation: Energy @ SEARHC 2025
DESCRIPTION:Special Presentation – Energy and the New SEARHC Hospital. This week’s meeting will feature Maegan Bosak. Contact us to receive a meeting invite!
URL:https://transitionsitka.org/event/presentation-energy/
LOCATION:Zoom
END:VEVENT
BEGIN:VEVENT
DTSTART;TZID=UTC:20221213T060000
DTEND;TZID=UTC:20221213T210000
DTSTAMP:20260423T182104
CREATED:20221121T025052Z
LAST-MODIFIED:20221121T025052Z
UID:1366-1670911200-1670965200@transitionsitka.org
SUMMARY:ETIPP Update
DESCRIPTION:Rob Jordan of the Renewable Energy Alaska Project (REAP) has been working with the City and Borough of Sitka on the Energy Transition Initiative Partnership Program (ETIPP)technical consultation. He will be presenting some results of the project to the Assembly for approximately 30 minutes during the regular meeting of the Assembly. Come along or tune in via Raven Radio!
URL:https://transitionsitka.org/event/etipp-update/
LOCATION:Harrigan Centennial Hall\, 330 Harbor Drive\, Sitka\, AK\, 99835\, United States
END:VEVENT
BEGIN:VEVENT
DTSTART;TZID=UTC:20221130T190000
DTEND;TZID=UTC:20221130T201500
DTSTAMP:20260423T182104
CREATED:20221121T011149Z
LAST-MODIFIED:20221121T011648Z
UID:1342-1669834800-1669839300@transitionsitka.org
SUMMARY:Transition Sitka Regular Meeting
DESCRIPTION:Members meet to discuss progress\, make plans\, and work together on our projects. Contact us to receive a meeting invite!
URL:https://transitionsitka.org/event/transition-sitka-regular-meeting/
LOCATION:Zoom
END:VEVENT
BEGIN:VEVENT
DTSTART;TZID=UTC:20220827T100000
DTEND;TZID=UTC:20220827T130000
DTSTAMP:20260423T182104
CREATED:20220807T235834Z
LAST-MODIFIED:20220807T235835Z
UID:1323-1661594400-1661605200@transitionsitka.org
SUMMARY:Sitka Farmers Market
DESCRIPTION:Planting and harvesting ideas is what we do at the markets! Visit our stall to chat about self-sufficiency\, food security\, and creating a strong local economy.
URL:https://transitionsitka.org/event/sitka-farmers-market/
LOCATION:ANB Hall\, Katlian Street\, Sitka\, Alaska\, 99835\, United States
END:VEVENT
BEGIN:VEVENT
DTSTART;TZID=UTC:20220813T100000
DTEND;TZID=UTC:20220813T130000
DTSTAMP:20260423T182104
CREATED:20220807T234947Z
LAST-MODIFIED:20220807T235255Z
UID:1318-1660384800-1660395600@transitionsitka.org
SUMMARY:Sitka Farmers Market
DESCRIPTION:Find us amongst the produce and local goods at the markets! Tell us what interests you about a fossil-fuel-free future.
URL:https://transitionsitka.org/event/sitka-farmers-market-aug-13/
LOCATION:ANB Hall\, Katlian Street\, Sitka\, Alaska\, 99835\, United States
END:VEVENT
BEGIN:VEVENT
DTSTART;TZID=UTC:20220302T183000
DTEND;TZID=UTC:20220302T193000
DTSTAMP:20260423T182104
CREATED:20220221T000713Z
LAST-MODIFIED:20220221T000714Z
UID:1142-1646245800-1646249400@transitionsitka.org
SUMMARY:Transition Sitka Weekly Meeting
DESCRIPTION:Transition Sitka meets weekly to plan and work on projects. Contact us to receive the zoom link to the meeting.
URL:https://transitionsitka.org/event/transition-sitka-weekly-meeting/
LOCATION:Zoom
END:VEVENT
BEGIN:VEVENT
DTSTART;TZID=UTC:20220227T040000
DTEND;TZID=UTC:20220227T170000
DTSTAMP:20260423T182104
CREATED:20220221T001152Z
LAST-MODIFIED:20220221T001639Z
UID:1149-1645934400-1645981200@transitionsitka.org
SUMMARY:Transition To A World Without Oil
DESCRIPTION:Join us for a screening of Rob Hopkins’ Ted Talk about the role of transitions in meeting the challenges of a world with permanent fossil fuel limits.  Discuss the impacts and implications for Sitka with other interested community members!  Register at https://tinyurl.com/transitionsitka
URL:https://transitionsitka.org/event/transition-to-a-world-without-oil/
LOCATION:Zoom
END:VEVENT
BEGIN:VEVENT
DTSTART;TZID=UTC:20220223T183000
DTEND;TZID=UTC:20220223T193000
DTSTAMP:20260423T182104
CREATED:20220221T000311Z
LAST-MODIFIED:20220221T001800Z
UID:1136-1645641000-1645644600@transitionsitka.org
SUMMARY:Transition Sitka Weekly Meeting
DESCRIPTION:Transition Sitka meets weekly to plan activities and projects. Contact us to receive the link!
URL:https://transitionsitka.org/event/ts-core-meeting/
LOCATION:Zoom
END:VEVENT
END:VCALENDAR